Workbook
Name Report_TDA: Report_TDA!$A$1:$M$115

Sheet Legenda

Sheet Report_Siti_WEB
A1: Report tempi di attesa ex ante (sono considerate le prestazioni SSN di primo accesso prenotate all'interno dell'ambito di garanzia)
A2: Visite specialistiche / Prestazioni strumentali | B2: Codice prestazione PNGLA 2025-2027 | C2: Descrizione prestazione PNGLA 2025-2027 | D2: Codice nomenclatore | E2: N. prenotazioni Classi B+D+P | F2: N. prenotazioni Classe B (10 gg) | G2: % prenotazioni garantite entro i tempi Classe B | H2: Valore mediano dei tempi di attesa delle prestazioni Classe B | I2: N. prenotazioni Classe D (30 gg per visite, 60 gg per esami diagnostici) | J2: % prenotazioni garantite entro i tempi Classe D | K2: Valore mediano dei tempi di attesa delle prestazioni Classe D | L2: N. prenotazioni Classe P (120 gg) | M2: % prenotazioni garantite entro i tempi Classe P | N2: Valore mediano dei tempi di attesa delle prestazioni Classe P
A3: GRUPPO | B3: COD | C3: PRESTAZIONE | D3: CODICE NTR | E3: Totale Prenotazioni Classi B, D, P | F3: Totale Prenotazioni Classe B | G3: % Garanzia Classe B | H3: Mediana tempi di attesa Classe B | I3: Totale Prenotazioni Classe D | J3: % Garanzia Classe D | K3: Mediana tempi di attesa Classe D | L3: Totale Prenotazioni Classe P | M3: % Garanzia Classe P | N3: Mediana tempi di attesa Classe B
A4: VISITE SPECIALISTICHE | B4: 05 | C4: PRIMA VISITA ENDOCRINOLOGICA* | D4: 89.7A.8 | E4: =IF(Report_TDA!D6<>"",Report_TDA!D6,0) -> 58 | F4: =IF(Report_TDA!E6<>"",Report_TDA!E6,0) -> 1 | G4: =IF(Report_TDA!F6<>"",Report_TDA!F6,0) -> 1 | H4: =IF(Report_TDA!G6="", "n.d.", IF(Report_TDA!G6=0, "n.d.", Report_TDA!G6)) -> 6 | I4: =IF(Report_TDA!H6<>"",Report_TDA!H6,0) -> 9 | J4: =IF(Report_TDA!I6<>"",Report_TDA!I6,0) -> 1 | K4: =IF(Report_TDA!J6="", "n.d.", IF(Report_TDA!J6=0, "n.d.", Report_TDA!J6)) -> 5 | L4: =IF(Report_TDA!K6<>"",Report_TDA!K6,0) -> 48 | M4: =IF(Report_TDA!L6<>"",Report_TDA!L6,0) -> 0.97916667 | N4: =IF(Report_TDA!M6="", "n.d.", IF(Report_TDA!M6=0, "n.d.", Report_TDA!M6)) -> 10
A5: VISITE SPECIALISTICHE | B5: 06 | C5: PRIMA VISITA DI MEDICINA FISICA E RIABILITAZIONE | D5: 89.7B.2 | E5: =IF(Report_TDA!D7<>"",Report_TDA!D7,0) -> 84 | F5: =IF(Report_TDA!E7<>"",Report_TDA!E7,0) -> 4 | G5: =IF(Report_TDA!F7<>"",Report_TDA!F7,0) -> 0.75 | H5: =IF(Report_TDA!G7="", "n.d.", IF(Report_TDA!G7=0, "n.d.", Report_TDA!G7)) -> 8 | I5: =IF(Report_TDA!H7<>"",Report_TDA!H7,0) -> 46 | J5: =IF(Report_TDA!I7<>"",Report_TDA!I7,0) -> 1 | K5: =IF(Report_TDA!J7="", "n.d.", IF(Report_TDA!J7=0, "n.d.", Report_TDA!J7)) -> 8 | L5: =IF(Report_TDA!K7<>"",Report_TDA!K7,0) -> 34 | M5: =IF(Report_TDA!L7<>"",Report_TDA!L7,0) -> 1 | N5: =IF(Report_TDA!M7="", "n.d.", IF(Report_TDA!M7=0, "n.d.", Report_TDA!M7)) -> 5
A6: VISITE SPECIALISTICHE | B6: 08 | C6: PRIMA VISITA GERIATRICA | D6: 89.7 | E6: =IF(Report_TDA!D9<>"",Report_TDA!D9,0) -> 32 | F6: =IF(Report_TDA!E9<>"",Report_TDA!E9,0) -> 3 | G6: =IF(Report_TDA!F9<>"",Report_TDA!F9,0) -> 1 | H6: =IF(Report_TDA!G9="", "n.d.", IF(Report_TDA!G9=0, "n.d.", Report_TDA!G9)) -> n.d. | I6: =IF(Report_TDA!H9<>"",Report_TDA!H9,0) -> 12 | J6: =IF(Report_TDA!I9<>"",Report_TDA!I9,0) -> 1 | K6: =IF(Report_TDA!J9="", "n.d.", IF(Report_TDA!J9=0, "n.d.", Report_TDA!J9)) -> 7 | L6: =IF(Report_TDA!K9<>"",Report_TDA!K9,0) -> 17 | M6: =IF(Report_TDA!L9<>"",Report_TDA!L9,0) -> 1 | N6: =IF(Report_TDA!M9="", "n.d.", IF(Report_TDA!M9=0, "n.d.", Report_TDA!M9)) -> 10

Sheet Report_TDA
A1: COD | B1: PRESTAZIONE | C1: CODICE_NTR | D1: pren_tot_SSN | E1: pren_B | F1: perc_garanzia_b | G1: mediana_tda_B | H1: pren_D | I1: perc_garanzia_d | J1: mediana_tda_D | K1: pren_P | L1: perc_garanzia_p | M1: mediana_tda_P
A2: 01 | B2: PRIMA VISITA CARDIOLOGICA | C2: 89.7A.3
A3: 02 | B3: PRIMA VISITA ANGIOLOGICA | C3: 89.7A.2
A4: 03 | B4: PRIMA VISITA CHIRURGICA VASCOLARE | C4: 89.7A.6
A5: 04 | B5: PRIMA VISITA DERMATOLOGICA/ALLERGOLOGICA | C5: 89.7A.7
A6: 05 | B6: PRIMA VISITA ENDOCRINOLOGICA* | C6: 89.7A.8 | D6: 58 | E6: 1 | F6: 1 | G6: 6 | H6: 9 | I6: 1 | J6: 5 | K6: 48 | L6: 0.97916667 | M6: 10
A7: 06 | B7: PRIMA VISITA DI MEDICINA FISICA E RIABILITAZIONE | C7: 89.7B.2 | D7: 84 | E7: 4 | F7: 0.75 | G7: 8 | H7: 46 | I7: 1 | J7: 8 | K7: 34 | L7: 1 | M7: 5
A8: 07 | B8: PRIMA VISITA GASTROENTEROLOGICA | C8: 89.7A.9
A9: 08 | B9: PRIMA VISITA GERIATRICA | C9: 89.7 | D9: 32 | E9: 3 | F9: 1 | G9: 0 | H9: 12 | I9: 1 | J9: 7 | K9: 17 | L9: 1 | M9: 10
A10: 09 | B10: PRIMA VISITA GINECOLOGICA | C10: 89.26.1
A11: 10 | B11: PRIMA VISITA NEFROLOGICA | C11: 89.7B.4
A12: 11 | B12: PRIMA VISITA NEUROLOGICA | C12: 89.13
A13: 12 | B13: PRIMA VISITA OCULISTICA | C13: 95.02
A14: 13 | B14: PRIMA VISITA ONCOLOGICA | C14: 89.7B.6
A15: 14 | B15: PRIMA VISITA ORTOPEDICA | C15: 89.7B.7
A16: 15 | B16: PRIMA VISITA OTORINOLARINGOIATRICA | C16: 89.7B.8
A17: 16 | B17: PRIMA VISITA PNEUMOLOGICA | C17: 89.7B.9
A18: 17 | B18: PRIMA VISITA REUMATOLOGICA | C18: 89.7
A19: 18 | B19: PRIMA VISITA UROLOGICA* | C19: 89.7C.2
A20: 19 | B20: PRIMA VISITA EMATOLOGICA | C20: 89.7
A21: 20 | B21: COLONSCOPIA TOTALE CON ENDOSCOPIO FLESSIBILE | C21: 45.23
... A115: 50 | B115: TEST CARDIOVASCOLARE DA SFORZO CON CICLOERGOMETRO O CON PEDANA MOBILE | C115: 89.41
